BEGIN:VCALENDAR
VERSION:2.0
PRODID:-//Barcombe Playgroup - ECPv4.2.7//NONSGML v1.0//EN
CALSCALE:GREGORIAN
METHOD:PUBLISH
X-WR-CALNAME:Barcombe Playgroup
X-ORIGINAL-URL:http://www.barcombeplaygroup.co.uk
X-WR-CALDESC:Events for Barcombe Playgroup
BEGIN:VEVENT
DTSTART;TZID=Europe/London:20170526T100000
DTEND;TZID=Europe/London:20170526T110000
DTSTAMP:20260421T223946
CREATED:20170313T214919
LAST-MODIFIED:20170313T214919
UID:1496-1495792800-1495796400@www.barcombeplaygroup.co.uk
SUMMARY:Universal Dance session
DESCRIPTION:Universal Dance will be joining us to run a dance session for the children.
URL:http://www.barcombeplaygroup.co.uk/event/universal-dance-session-4/
ATTACH;FMTTYPE=image/jpeg:http://www.barcombeplaygroup.co.uk/wp-content/uploads/2017/03/dancing-1171863-639x913.jpg
END:VEVENT
END:VCALENDAR