BEGIN:VCALENDAR
VERSION:2.0
PRODID:-//Barcombe Playgroup - ECPv4.2.7//NONSGML v1.0//EN
CALSCALE:GREGORIAN
METHOD:PUBLISH
X-WR-CALNAME:Barcombe Playgroup
X-ORIGINAL-URL:http://www.barcombeplaygroup.co.uk
X-WR-CALDESC:Events for Barcombe Playgroup
BEGIN:VEVENT
DTSTART;VALUE=DATE:20160906
DTEND;VALUE=DATE:20160906
DTSTAMP:20260420T203916
CREATED:20161001
LAST-MODIFIED:20161001
UID:1167-1473120000-1473206399@www.barcombeplaygroup.co.uk
SUMMARY:Start of Autumn term
DESCRIPTION:Start of Autumn term 
URL:http://www.barcombeplaygroup.co.uk/event/start-of-autumn-term/
LOCATION:Barcombe Mills Road\, BN85BH\, United Kingdom
CATEGORIES:Term Dates
END:VEVENT
END:VCALENDAR