BEGIN:VCALENDAR
VERSION:2.0
PRODID:-//Barcombe Playgroup - ECPv4.2.7//NONSGML v1.0//EN
CALSCALE:GREGORIAN
METHOD:PUBLISH
X-WR-CALNAME:Barcombe Playgroup
X-ORIGINAL-URL:http://www.barcombeplaygroup.co.uk
X-WR-CALDESC:Events for Barcombe Playgroup
BEGIN:VEVENT
DTSTART;VALUE=DATE:20161221
DTEND;VALUE=DATE:20161221
DTSTAMP:20260420T231922
CREATED:20161001
LAST-MODIFIED:20161012
UID:1178-1482278400-1482364799@www.barcombeplaygroup.co.uk
SUMMARY:Last day of term 2
DESCRIPTION:Last day of term 2
URL:http://www.barcombeplaygroup.co.uk/event/last-day-of-term-2/
LOCATION:Barcombe Mills Road\, BN85BH\, United Kingdom
CATEGORIES:Term Dates
ATTACH;FMTTYPE=image/jpeg:http://www.barcombeplaygroup.co.uk/wp-content/uploads/2016/10/ID-100272354.jpg
END:VEVENT
END:VCALENDAR