BEGIN:VCALENDAR
VERSION:2.0
PRODID:-//Barcombe Playgroup - ECPv4.2.7//NONSGML v1.0//EN
CALSCALE:GREGORIAN
METHOD:PUBLISH
X-WR-CALNAME:Barcombe Playgroup
X-ORIGINAL-URL:http://www.barcombeplaygroup.co.uk
X-WR-CALDESC:Events for Barcombe Playgroup
BEGIN:VEVENT
DTSTART;TZID=Europe/London:20170519T090000
DTEND;TZID=Europe/London:20170519T100000
DTSTAMP:20260421T200131
CREATED:20170313T215155
LAST-MODIFIED:20170313T215155
UID:1498-1495184400-1495188000@www.barcombeplaygroup.co.uk
SUMMARY:Group photo
DESCRIPTION:Tempest Photography are coming into Playgroup to take a group photo. This is primarily for the children who will be leaving us this year to start school but all the children are invited to come along and join the group.
URL:http://www.barcombeplaygroup.co.uk/event/group-photo/
END:VEVENT
END:VCALENDAR