BEGIN:VCALENDAR
VERSION:2.0
PRODID:-//Barcombe Playgroup - ECPv4.2.7//NONSGML v1.0//EN
CALSCALE:GREGORIAN
METHOD:PUBLISH
X-WR-CALNAME:Barcombe Playgroup
X-ORIGINAL-URL:http://www.barcombeplaygroup.co.uk
X-WR-CALDESC:Events for Barcombe Playgroup
BEGIN:VEVENT
DTSTART;VALUE=DATE:20170331
DTEND;VALUE=DATE:20170331
DTSTAMP:20260421T134234
CREATED:20161001
LAST-MODIFIED:20170316
UID:1190-1490918400-1491004799@www.barcombeplaygroup.co.uk
SUMMARY:End of term 4
DESCRIPTION:End of term 4
URL:http://www.barcombeplaygroup.co.uk/event/end-of-term-4/
LOCATION:Barcombe Mills Road\, BN85BH\, United Kingdom
CATEGORIES:Term Dates
ATTACH;FMTTYPE=image/jpeg:http://www.barcombeplaygroup.co.uk/wp-content/uploads/2016/10/easter-eggs-1453067-639x426.jpg
END:VEVENT
END:VCALENDAR