BEGIN:VCALENDAR
VERSION:2.0
PRODID:-//Barcombe Playgroup - ECPv4.2.7//NONSGML v1.0//EN
CALSCALE:GREGORIAN
METHOD:PUBLISH
X-WR-CALNAME:Barcombe Playgroup
X-ORIGINAL-URL:http://www.barcombeplaygroup.co.uk
X-WR-CALDESC:Events for Barcombe Playgroup
BEGIN:VEVENT
DTSTART;VALUE=DATE:20170210
DTEND;VALUE=DATE:20170210
DTSTAMP:20260421T053231
CREATED:20161001
LAST-MODIFIED:20161001
UID:1186-1486684800-1486771199@www.barcombeplaygroup.co.uk
SUMMARY:End of term 3
DESCRIPTION:End of term 3
URL:http://www.barcombeplaygroup.co.uk/event/end-of-term-3/
LOCATION:Barcombe Mills Road\, BN85BH\, United Kingdom
CATEGORIES:Term Dates
END:VEVENT
END:VCALENDAR