BEGIN:VCALENDAR
VERSION:2.0
PRODID:-//Barcombe Playgroup - ECPv4.2.7//NONSGML v1.0//EN
CALSCALE:GREGORIAN
METHOD:PUBLISH
X-WR-CALNAME:Barcombe Playgroup
X-ORIGINAL-URL:http://www.barcombeplaygroup.co.uk
X-WR-CALDESC:Events for Barcombe Playgroup
BEGIN:VEVENT
DTSTART;TZID=Europe/London:20161004T200000
DTEND;TZID=Europe/London:20161004T213000
DTSTAMP:20260420T191859
CREATED:20161001T084802
LAST-MODIFIED:20161004T004149
UID:1169-1475611200-1475616600@www.barcombeplaygroup.co.uk
SUMMARY:Committee AGM at Royal Oak
DESCRIPTION:Committee AGM at Royal Oak
URL:http://www.barcombeplaygroup.co.uk/event/committee-agm-at-royal-oak/
LOCATION:High St\, \, Barcombe\, BN8 5BA\, United Kingdom
CATEGORIES:Meeting
ATTACH;FMTTYPE=image/jpeg:http://www.barcombeplaygroup.co.uk/wp-content/uploads/2016/10/holding-hands-BP.jpg
END:VEVENT
END:VCALENDAR