BEGIN:VCALENDAR
VERSION:2.0
PRODID:-//Barcombe Playgroup - ECPv4.2.7//NONSGML v1.0//EN
CALSCALE:GREGORIAN
METHOD:PUBLISH
X-WR-CALNAME:Barcombe Playgroup
X-ORIGINAL-URL:http://www.barcombeplaygroup.co.uk
X-WR-CALDESC:Events for Barcombe Playgroup
BEGIN:VEVENT
DTSTART;TZID=Europe/London:20161221T090000
DTEND;TZID=Europe/London:20161221T123000
DTSTAMP:20260421T014716
CREATED:20161218T214454
LAST-MODIFIED:20161218T214534
UID:1425-1482310800-1482323400@www.barcombeplaygroup.co.uk
SUMMARY:Christmas Party
DESCRIPTION:Playgroup will be holding it's Christmas party on Wednesday 21st December. All children who attend Playgroup are welcome to come\, even if they don't usually attend on a Wednesday. Just drop your child/children off at 9am as usual and collect them at 12.30pm. We will have party food (sandwiches\, crisps\, fruit\, cakes) and party games\, and we also have a surprise guest coming in to do some dancing with the children.
URL:http://www.barcombeplaygroup.co.uk/event/christmas-party/
ATTACH;FMTTYPE=image/jpeg:http://www.barcombeplaygroup.co.uk/wp-content/uploads/2016/12/christmas-2005-3-1426006-640x480.jpg
END:VEVENT
END:VCALENDAR